Workbook

Sheet Sheet1
A1: 商学院（管理学院）拟推荐2026学年国家励志奖学金学生名单公示
A2: 班级 | B2: 姓名 | C2: 学号 | D2: 25-26学年综合测评中奖学金情况
A3: 会计231 | B3: 刘徐艳 | C3: =VLOOKUP(B3,'[2]25-26'!$A:$G,4,0) -> 2334110311 | D3: =VLOOKUP(C3,'[2]25-26'!$D:$J,7,0) -> 一等奖学金
A4: 会计232 | B4: 夏子琪 | C4: =VLOOKUP(B4,'[2]25-26'!$A:$G,4,0) -> 2334110364 | D4: =VLOOKUP(C4,'[2]25-26'!$D:$J,7,0) -> 一等奖学金
A5: 会计233 | B5: 陈颖 | C5: =VLOOKUP(B5,'[2]25-26'!$A:$G,4,0) -> 2334110219 | D5: =VLOOKUP(C5,'[2]25-26'!$D:$J,7,0) -> 二等奖学金
A6: 会计231 | B6: 陈婷婷 | C6: =VLOOKUP(B6,'[2]25-26'!$A:$G,4,0) -> 2334110306 | D6: =VLOOKUP(C6,'[2]25-26'!$D:$J,7,0) -> 二等奖学金
A7: 商管231 | B7: 尹怡 | C7: =VLOOKUP(B7,'[2]25-26'!$A:$G,4,0) -> 2334110016 | D7: =VLOOKUP(C7,'[2]25-26'!$D:$J,7,0) -> 二等奖学金
A8: 物流233 | B8: 胡启梅 | C8: =VLOOKUP(B8,'[2]25-26'!$A:$G,4,0) -> 2334110491 | D8: =VLOOKUP(C8,'[2]25-26'!$D:$J,7,0) -> 二等奖学金
A9: 会计231 | B9: 王志洁 | C9: =VLOOKUP(B9,'[2]25-26'!$A:$G,4,0) -> 2334110319 | D9: =VLOOKUP(C9,'[2]25-26'!$D:$J,7,0) -> 二等奖学金
A10: 信管231 | B10: 张彩云 | C10: =VLOOKUP(B10,'[2]25-26'!$A:$G,4,0) -> 2215110010 | D10: =VLOOKUP(C10,'[2]25-26'!$D:$J,7,0) -> 二等奖学金
A11: 会计231 | B11: 杜宇奇 | C11: =VLOOKUP(B11,'[2]25-26'!$A:$G,4,0) -> 2334110309 | D11: =VLOOKUP(C11,'[2]25-26'!$D:$J,7,0) -> 二等奖学金
A12: 会计234 | B12: 颜苏婷 | C12: =VLOOKUP(B12,'[2]25-26'!$A:$G,4,0) -> 2334110412 | D12: =VLOOKUP(C12,'[2]25-26'!$D:$J,7,0) -> 三等奖学金
A13: 行政232 | B13: 曹思颖 | C13: =VLOOKUP(B13,'[2]25-26'!$A:$G,4,0) -> 2334110246 | D13: =VLOOKUP(C13,'[2]25-26'!$D:$J,7,0) -> 三等奖学金
A14: 会计232 | B14: 耿雨佳 | C14: =VLOOKUP(B14,'[2]25-26'!$A:$G,4,0) -> 2334110339 | D14: =VLOOKUP(C14,'[2]25-26'!$D:$J,7,0) -> 三等奖学金
... A22: 信管232 | B22: 杨慧 | C22: =VLOOKUP(B22,'[2]25-26'!$A:$G,4,0) -> 2334110553 | D22: =VLOOKUP(C22,'[2]25-26'!$D:$J,7,0) -> 三等奖学金
A23: 信管241 | B23: 李丽 | C23: 2434110415 | D23: =VLOOKUP(B23,[1]名单!$A:$J,10,0) -> 一等奖学金
A24: 经济与金融241 | B24: 郑世凤 | C24: 2434110494 | D24: =VLOOKUP(B24,[1]名单!$A:$J,10,0) -> 一等奖学金
A25: 会计242 | B25: 骆璇 | C25: 2434110208 | D25: =VLOOKUP(B25,[1]名单!$A:$J,10,0) -> 二等奖学金
A26: 信管241 | B26: 李梦瑶 | C26: 2434110416 | D26: =VLOOKUP(B26,[1]名单!$A:$J,10,0) -> 二等奖学金
A27: 商管241 | B27: 谢鑫泉 | C27: 2434110015 | D27: =VLOOKUP(B27,[1]名单!$A:$J,10,0) -> 二等奖学金
A28: 商管242 | B28: 刘琪 | C28: 2434110037 | D28: =VLOOKUP(B28,[1]名单!$A:$J,10,0) -> 二等奖学金
A29: 国贸242 | B29: 曹欣雨 | C29: 2434110112 | D29: =VLOOKUP(B29,[1]名单!$A:$J,10,0) -> 二等奖学金
A30: 国贸243 | B30: 刘鑫玲 | C30: 2434110150 | D30: =VLOOKUP(B30,[1]名单!$A:$J,10,0) -> 二等奖学金
A31: 国贸243 | B31: 马君瑶 | C31: 2434110152 | D31: =VLOOKUP(B31,[1]名单!$A:$J,10,0) -> 二等奖学金
A32: 经济与金融241 | B32: 谭雪梅 | C32: 2434110486 | D32: =VLOOKUP(B32,[1]名单!$A:$J,10,0) -> 二等奖学金
A33: 行政241 | B33: 邓群丽 | C33: 2434110202 | D33: =VLOOKUP(B33,[1]名单!$A:$J,10,0) -> 二等奖学金
A34: 行政241 | B34: 韦翠 | C34: 2334110076 | D34: =VLOOKUP(B34,[1]名单!$A:$J,10,0) -> 二等奖学金
... A48: 会计241 | B48: 苏春庆 | C48: 2432110289 | D48: =VLOOKUP(B48,[1]名单!$A:$J,10,0) -> 三等奖学金
A49: 会计252 | B49: 韩梦瑶 | C49: 2534110350 | D49: 一等奖学金
A50: 会计252 | B50: 李丹 | C50: 2534110292 | D50: 一等奖学金
A51: 信管251 | B51: 刘博冰 | C51: 2534110454 | D51: 一等奖学金
A52: 行政253 | B52: 祝德明 | C52: 2534110313 | D52: 一等奖学金
A53: 国贸252 | B53: 常慧宁 | C53: 2534110129 | D53: 二等奖学金
A54: 国贸253 | B54: 甘晓 | C54: 2534110166 | D54: 二等奖学金
A55: 会计251 | B55: 梁天雪 | C55: 2534110325 | D55: 二等奖学金
A56: 行政251 | B56: 吴振雯 | C56: 2534110229 | D56: 二等奖学金
A57: 行政251 | B57: 徐维静 | C57: 2534110235 | D57: 二等奖学金
A58: 行政253 | B58: 孙胜男 | C58: 2534110296 | D58: 二等奖学金
A59: 国贸253 | B59: 邓曼莎 | C59: 2534110182 | D59: 三等奖学金
A60: 会计251 | B60: 孙玉翠 | C60: 2534110545 | D60: 三等奖学金
...
